BEGIN:VCALENDAR
VERSION:2.0
PRODID:-//Associazione Graffiti
CALSCALE:GREGORIAN
METHOD:PUBLISH
X-WR-CALNAME:Associazione Graffiti
X-ORIGINAL-URL:https://graffitiscuola.it/event/mostra-unconventional-di-fabio-ancora-sabato-18-gennaio-2025/
X-WR-CALDESC:MOSTRA &#8220;UNCONVENTIONAL&#8221; di FABIO ANCORA &#8211; Sabato 18 gennaio 2025
BEGIN:VEVENT
DTSTART:
DTEND:
SUMMARY:MOSTRA &#8220;UNCONVENTIONAL&#8221; di FABIO ANCORA &#8211; Sabato 18 gennaio 2025
DESCRIPTION:MOSTRA "UNCONVENTIONAL" 
di FABIO ANCORA
Inaugurazione Sabato 18 gennaio 2025
LOCATION:
END:VEVENT
END:VCALENDAR
