BEGIN:VCALENDAR
VERSION:2.0
PRODID:-//Associazione Graffiti
CALSCALE:GREGORIAN
METHOD:PUBLISH
X-WR-CALNAME:Associazione Graffiti
X-ORIGINAL-URL:https://graffitiscuola.it/event/festa-di-natale-graffiti-openday-sabato-14-dicembre-2024-ore-10-20/
X-WR-CALDESC:Festa di Natale Graffiti / Openday &#8211; Sabato 14 dicembre 2024 ore 10/20
BEGIN:VEVENT
DTSTART:
DTEND:
SUMMARY:Festa di Natale Graffiti / Openday &#8211; Sabato 14 dicembre 2024 ore 10/20
DESCRIPTION:Festa di Natale Graffiti / Openday
Sabato 14 dicembre 2024 ore 10/20
LOCATION:
END:VEVENT
END:VCALENDAR
