BEGIN:VCALENDAR
VERSION:2.0
PRODID:-//Associazione Graffiti
CALSCALE:GREGORIAN
METHOD:PUBLISH
X-WR-CALNAME:Associazione Graffiti
X-ORIGINAL-URL:https://graffitiscuola.it/event/visione-documentario-e-dibattito-tina-modotti-maestra-della-fotografia/
X-WR-CALDESC:Visione documentario e dibattito &#8220;TINA MODOTTI &#8211; Maestra della fotografia&#8221;
BEGIN:VEVENT
DTSTART:
DTEND:
SUMMARY:Visione documentario e dibattito &#8220;TINA MODOTTI &#8211; Maestra della fotografia&#8221;
DESCRIPTION:Visione documentario e dibattito "TINA MODOTTI - Maestra della fotografia"
Venerdì 8 novembre 2024 ore 19
LOCATION:
END:VEVENT
END:VCALENDAR
