BEGIN:VCALENDAR
VERSION:2.0
PRODID:-//Associazione Graffiti
CALSCALE:GREGORIAN
METHOD:PUBLISH
X-WR-CALNAME:Associazione Graffiti
X-ORIGINAL-URL:https://graffitiscuola.it/event/visita-guidata-alla-mostra-fotografica-di-andre-kertesz-sabato-9-novembre-2024-ore-16-00/
X-WR-CALDESC:Visita guidata alla Mostra Fotografica di ANDRÉ KERTÉSZ &#8211; Sabato 9 novembre 2024 ore 16.00
BEGIN:VEVENT
DTSTART:
DTEND:
SUMMARY:Visita guidata alla Mostra Fotografica di ANDRÉ KERTÉSZ &#8211; Sabato 9 novembre 2024 ore 16.00
DESCRIPTION:Visita guidata alla Mostra Fotografica di ANDRÉ KERTÉSZ
Sabato 9 novembre 2024 ore 16.00
LOCATION:
END:VEVENT
END:VCALENDAR
