BEGIN:VCALENDAR
VERSION:2.0
PRODID:-//Associazione Graffiti
CALSCALE:GREGORIAN
METHOD:PUBLISH
X-WR-CALNAME:Associazione Graffiti
X-ORIGINAL-URL:https://graffitiscuola.it/event/workshop-fotografico-a-bologna-visita-guidata-alla-mostra-fotografica-di-tina-modotti/
X-WR-CALDESC:WORKSHOP FOTOGRAFICO A BOLOGNA &#038; VISITA GUIDATA ALLA MOSTRA FOTOGRAFICA DI TINA MODOTTI &#8211; Domenica 20 ottobre 2024
BEGIN:VEVENT
DTSTART:
DTEND:
SUMMARY:WORKSHOP FOTOGRAFICO A BOLOGNA &#038; VISITA GUIDATA ALLA MOSTRA FOTOGRAFICA DI TINA MODOTTI &#8211; Domenica 20 ottobre 2024
DESCRIPTION:Domenica 20 ottobre 2024 BOLOGNA:
VISITA ALLA MOSTRA DI TINA MODOTTI - PASSEGGIATA FOTOGRAFICA
LOCATION:
END:VEVENT
END:VCALENDAR
