BEGIN:VCALENDAR
VERSION:2.0
PRODID:-//Associazione Graffiti
CALSCALE:GREGORIAN
METHOD:PUBLISH
X-WR-CALNAME:Associazione Graffiti
X-ORIGINAL-URL:https://graffitiscuola.it/event/mostra-fotografica-come-una-favola-di-stefania-carraturo-sabato-26-ottobre-2024-ore-18-20/
X-WR-CALDESC:Mostra Fotografica &#8220;COME UNA FAVOLA&#8221; di STEFANIA CARRATURO &#8211; Sabato 26 ottobre 2024 ore 18/20
BEGIN:VEVENT
DTSTART:
DTEND:
SUMMARY:Mostra Fotografica &#8220;COME UNA FAVOLA&#8221; di STEFANIA CARRATURO &#8211; Sabato 26 ottobre 2024 ore 18/20
DESCRIPTION:Mostra Fotografica
"COME UNA FAVOLA" di STEFANIA CARRATURO 
LOCATION:
END:VEVENT
END:VCALENDAR
