BEGIN:VCALENDAR
VERSION:2.0
PRODID:-//Associazione Graffiti
CALSCALE:GREGORIAN
METHOD:PUBLISH
X-WR-CALNAME:Associazione Graffiti
X-ORIGINAL-URL:https://graffitiscuola.it/event/mostra-fotografica-sidewalk-di-nadia-bocchetti-sabato-5-ottobre-2024-ore-18-20/
X-WR-CALDESC:Mostra Fotografica &#8220;SIDEWALK&#8221; di NADIA BOCCHETTI &#8211; Sabato 5 ottobre 2024 ore 18/20
BEGIN:VEVENT
DTSTART:
DTEND:
SUMMARY:Mostra Fotografica &#8220;SIDEWALK&#8221; di NADIA BOCCHETTI &#8211; Sabato 5 ottobre 2024 ore 18/20
DESCRIPTION:Mostra Fotografica
"SIDEWALK" di NADIA BOCCHETTI

LOCATION:
END:VEVENT
END:VCALENDAR
