BEGIN:VCALENDAR
VERSION:2.0
PRODID:-//Associazione Graffiti
CALSCALE:GREGORIAN
METHOD:PUBLISH
X-WR-CALNAME:Associazione Graffiti
X-ORIGINAL-URL:https://graffitiscuola.it/event/mostra-fotografica-reportage-allievi-graffiti-inaugurazione-sabato-14-settembre-2024-ore-18-20/
X-WR-CALDESC:Mostra Fotografica &#8220;REPORTAGE&#8221; Allievi Graffiti &#8211; Inaugurazione Sabato 14 Settembre 2024 ore 18/20
BEGIN:VEVENT
DTSTART:
DTEND:
SUMMARY:Mostra Fotografica &#8220;REPORTAGE&#8221; Allievi Graffiti &#8211; Inaugurazione Sabato 14 Settembre 2024 ore 18/20
DESCRIPTION:Mostra Fotografica "REPORTAGE"
Sabato 14 Settembre 2024 ore 18/20
LOCATION:
END:VEVENT
END:VCALENDAR
