BEGIN:VCALENDAR
VERSION:2.0
PRODID:-//Associazione Graffiti
CALSCALE:GREGORIAN
METHOD:PUBLISH
X-WR-CALNAME:Associazione Graffiti
X-ORIGINAL-URL:https://graffitiscuola.it/event/aperte-le-iscrizoni-ai-corsi-di-fotografia/
X-WR-CALDESC:CORSI &#038; MASTER DI FOTOGRAFIA 2025 / 2026
BEGIN:VEVENT
DTSTART:
DTEND:
SUMMARY:CORSI &#038; MASTER DI FOTOGRAFIA 2025 / 2026
DESCRIPTION:CORSI & MASTER DI FOTOGRAFIA 2025/2026
LOCATION:
END:VEVENT
END:VCALENDAR
