BEGIN:VCALENDAR
VERSION:2.0
PRODID:-//Associazione Graffiti
CALSCALE:GREGORIAN
METHOD:PUBLISH
X-WR-CALNAME:Associazione Graffiti
X-ORIGINAL-URL:https://graffitiscuola.it/event/visita-guidata-alle-mostre-fotografiche-a-beautiful-world-di-mario-testino-e-timeless-time-di-vincent-peters/
X-WR-CALDESC:Visita guidata alle Mostre Fotografiche &#8220;A BEAUTIFUL WORLD&#8221; di MARIO TESTINO E &#8220;TIMELESS TIME&#8221; di VINCENT PETERS
BEGIN:VEVENT
DTSTART:
DTEND:
SUMMARY:Visita guidata alle Mostre Fotografiche &#8220;A BEAUTIFUL WORLD&#8221; di MARIO TESTINO E &#8220;TIMELESS TIME&#8221; di VINCENT PETERS
DESCRIPTION:Visita guidata alle Mostre Fotografiche 
"A BEAUTIFUL WORLD" di MARIO TESTINO E "TIMELESS TIME" di VINCENT PETERS
Sabato 22 giugno 2024 ore 16.00
LOCATION:
END:VEVENT
END:VCALENDAR
