BEGIN:VCALENDAR
VERSION:2.0
PRODID:-//Associazione Graffiti
CALSCALE:GREGORIAN
METHOD:PUBLISH
X-WR-CALNAME:Associazione Graffiti
X-ORIGINAL-URL:https://graffitiscuola.it/event/seminario-di-fotografia-cercarsi-in-unimmagine-a-cura-di-marco-rossi/
X-WR-CALDESC:Seminario di Fotografia &#038; Psicologia: &#8220;CERCARSI IN UN&#8217;IMMAGINE&#8221; A cura di Marco Rossi
BEGIN:VEVENT
DTSTART:
DTEND:
SUMMARY:Seminario di Fotografia &#038; Psicologia: &#8220;CERCARSI IN UN&#8217;IMMAGINE&#8221; A cura di Marco Rossi
DESCRIPTION:Mercoledì 26 giugno 2024 ore 19.00

SEMINARIO DI FOTOGRAFIA "CERCARSI IN UN'IMMAGINE" a cura di Marco Rossi

LOCATION:
END:VEVENT
END:VCALENDAR
