BEGIN:VCALENDAR
VERSION:2.0
PRODID:-//Associazione Graffiti
CALSCALE:GREGORIAN
METHOD:PUBLISH
X-WR-CALNAME:Associazione Graffiti
X-ORIGINAL-URL:https://graffitiscuola.it/event/nuovo-libro-fotografico-collettivo-graffiti/
X-WR-CALDESC:DIVENTA AUTORE &#8211; Partecipa al Nuovo Libro Fotografico Collettivo &#8211; GRAFFITI 2025
BEGIN:VEVENT
DTSTART:
DTEND:
SUMMARY:DIVENTA AUTORE &#8211; Partecipa al Nuovo Libro Fotografico Collettivo &#8211; GRAFFITI 2025
DESCRIPTION:DIVENTA AUTORE: 
Partecipa al nuovo Libro Fotografico collettivo - GRAFFITI 2025
SECONDO INCONTRO 11 Settembre ore 18
LOCATION:
END:VEVENT
END:VCALENDAR
