BEGIN:VCALENDAR
VERSION:2.0
PRODID:-//Associazione Graffiti
CALSCALE:GREGORIAN
METHOD:PUBLISH
X-WR-CALNAME:Associazione Graffiti
X-ORIGINAL-URL:https://graffitiscuola.it/event/mostra-fotografica-mind-landscape-di-roberto-francini-graffiti/
X-WR-CALDESC:MOSTRA FOTOGRAFICA &#8220;Mind Landscape&#8221; di ROBERTO FRANCINI / Graffiti
BEGIN:VEVENT
DTSTART:
DTEND:
SUMMARY:MOSTRA FOTOGRAFICA &#8220;Mind Landscape&#8221; di ROBERTO FRANCINI / Graffiti
DESCRIPTION:Sabato 8 giugno 2024 ore 18.00
Inaugurazione Mostra Fotografica "MIND LANDSCAPE" di Roberto Francini / Graffiti
LOCATION:
END:VEVENT
END:VCALENDAR
