BEGIN:VCALENDAR
VERSION:2.0
PRODID:-//Associazione Graffiti
CALSCALE:GREGORIAN
METHOD:PUBLISH
X-WR-CALNAME:Associazione Graffiti
X-ORIGINAL-URL:https://graffitiscuola.it/event/workshop-fotografico-a-firenze-visita-guidata-alla-mostra-fotografica-di-mimmo-jodice-senza-tempo/
X-WR-CALDESC:WORKSHOP FOTOGRAFICO A FIRENZE  &#038; VISITA GUIDATA ALLA MOSTRA FOTOGRAFICA DI MIMMO JODICE &#8220;SENZA TEMPO&#8221;
BEGIN:VEVENT
DTSTART:
DTEND:
SUMMARY:WORKSHOP FOTOGRAFICO A FIRENZE  &#038; VISITA GUIDATA ALLA MOSTRA FOTOGRAFICA DI MIMMO JODICE &#8220;SENZA TEMPO&#8221;
DESCRIPTION:Sabato 15 giugno 2024
FIRENZE: VISITA ALLA MOSTRA DI MIMMO JODICE
LOCATION:
END:VEVENT
END:VCALENDAR
