BEGIN:VCALENDAR
VERSION:2.0
PRODID:-//Associazione Graffiti
CALSCALE:GREGORIAN
METHOD:PUBLISH
X-WR-CALNAME:Associazione Graffiti
X-ORIGINAL-URL:https://graffitiscuola.it/event/seminario-di-fotografia-immagini-senza-didascalia-a-cura-di-gianfranco-calandra/
X-WR-CALDESC:Seminario di Fotografia: &#8220;IMMAGINI SENZA DIDASCALIA&#8221; a cura di Gianfranco Calandra
BEGIN:VEVENT
DTSTART:
DTEND:
SUMMARY:Seminario di Fotografia: &#8220;IMMAGINI SENZA DIDASCALIA&#8221; a cura di Gianfranco Calandra
DESCRIPTION:Mercoledì 15 maggio 2024 ore 19.00
Seminario di Fotografia
"IMMAGINI SENZA DIDASCALIA"
LOCATION:
END:VEVENT
END:VCALENDAR
