BEGIN:VCALENDAR
VERSION:2.0
PRODID:-//Associazione Graffiti
CALSCALE:GREGORIAN
METHOD:PUBLISH
X-WR-CALNAME:Associazione Graffiti
X-ORIGINAL-URL:https://graffitiscuola.it/event/mostra-fotografica-here-comes-the-sun-di-stefania-carraturo-graffiti/
X-WR-CALDESC:MOSTRA FOTOGRAFICA &#8220;Here comes the sun&#8221; di STEFANIA CARRATURO / Graffiti
BEGIN:VEVENT
DTSTART:
DTEND:
SUMMARY:MOSTRA FOTOGRAFICA &#8220;Here comes the sun&#8221; di STEFANIA CARRATURO / Graffiti
DESCRIPTION:Sabato 20 aprile 2024 ore 18.00
Inaugurazione Mostra Fotografica
"HERE COMES THE SUN"
di STEFANIA CARRATURO

LOCATION:
END:VEVENT
END:VCALENDAR
