BEGIN:VCALENDAR
VERSION:2.0
PRODID:-//Associazione Graffiti
CALSCALE:GREGORIAN
METHOD:PUBLISH
X-WR-CALNAME:Associazione Graffiti
X-ORIGINAL-URL:https://graffitiscuola.it/event/presentazione-libri-fotografici-graffiti-la-poetica-dellimmagine-urban-autori-vari/
X-WR-CALDESC:Presentazione Libri Fotografici GRAFFITI: &#8220;La poetica dell&#8217;immagine&#8221; &#038; &#8220;Urban&#8221; &#8211; Autori Vari
BEGIN:VEVENT
DTSTART:20240406T152400
DTEND:
SUMMARY:Presentazione Libri Fotografici GRAFFITI: &#8220;La poetica dell&#8217;immagine&#8221; &#038; &#8220;Urban&#8221; &#8211; Autori Vari
DESCRIPTION:Sabato 6 Aprile 2024 ore 18.00
Presentazione Libri Fotografici GRAFFITI: 
La poetica dell'immagine" & "Urban"
Autori Vari
LOCATION:
END:VEVENT
END:VCALENDAR
