BEGIN:VCALENDAR
VERSION:2.0
PRODID:-//Associazione Graffiti
CALSCALE:GREGORIAN
METHOD:PUBLISH
X-WR-CALNAME:Associazione Graffiti
X-ORIGINAL-URL:https://graffitiscuola.it/event/workshop-fotografico-lisbona/
X-WR-CALDESC:Workshop Fotografico a LISBONA &#8211; 8/11 Maggio 2025
BEGIN:VEVENT
DTSTART:
DTEND:
SUMMARY:Workshop Fotografico a LISBONA &#8211; 8/11 Maggio 2025
DESCRIPTION:Workshop Fotografico 
LISBONA - 8/11 Maggio 2025
LOCATION:
END:VEVENT
END:VCALENDAR
