BEGIN:VCALENDAR
VERSION:2.0
PRODID:-//Associazione Graffiti
CALSCALE:GREGORIAN
METHOD:PUBLISH
X-WR-CALNAME:Associazione Graffiti
X-ORIGINAL-URL:https://graffitiscuola.it/event/seminario-di-fotografia-sociale-ritratto-e-autoritratto-i-volti-del-carcere/
X-WR-CALDESC:SEMINARIO DI FOTOGRAFIA SOCIALE: RITRATTO E AUTORITRATTO &#8211; I VOLTI DEL CARCERE
BEGIN:VEVENT
DTSTART:
DTEND:
SUMMARY:SEMINARIO DI FOTOGRAFIA SOCIALE: RITRATTO E AUTORITRATTO &#8211; I VOLTI DEL CARCERE
DESCRIPTION:SEMINARIO DI FOTOGRAFIA SOCIALE:
RITRATTO E AUTORITRATTO - I VOLTI DEL CARCERE 
LOCATION:
END:VEVENT
END:VCALENDAR
