BEGIN:VCALENDAR
VERSION:2.0
PRODID:-//Associazione Graffiti
CALSCALE:GREGORIAN
METHOD:PUBLISH
X-WR-CALNAME:Associazione Graffiti
X-ORIGINAL-URL:https://graffitiscuola.it/event/mostra-fotografica-portrait-allievi-graffiti-inaugurazione-sabato-24-febbraio-2024-ore-18-20/
X-WR-CALDESC:Mostra Fotografica &#8220;PORTRAITS&#8221; Allievi Graffiti &#8211; fino al 28 Marzo 2024
BEGIN:VEVENT
DTSTART:
DTEND:
SUMMARY:Mostra Fotografica &#8220;PORTRAITS&#8221; Allievi Graffiti &#8211; fino al 28 Marzo 2024
DESCRIPTION:MOSTRA FOTOGRAFICA
"PORTRAITS"
Allievi Corso Ritratto/Studio delle Luci
LOCATION:
END:VEVENT
END:VCALENDAR
