BEGIN:VCALENDAR
VERSION:2.0
PRODID:-//Associazione Graffiti
CALSCALE:GREGORIAN
METHOD:PUBLISH
X-WR-CALNAME:Associazione Graffiti
X-ORIGINAL-URL:https://graffitiscuola.it/event/viaggio-fotografico-reportage-palestina-marzo-2016/
X-WR-CALDESC:Viaggio Fotografico &#8211; Reportage in Palestina: Marzo 2016
BEGIN:VEVENT
DTSTART:20160319T100000
DTEND:20160328T210000
SUMMARY:Viaggio Fotografico &#8211; Reportage in Palestina: Marzo 2016
DESCRIPTION:Viaggio Fotografico - Reportage in Palestina: Marzo 2016
LOCATION:
END:VEVENT
END:VCALENDAR
