BEGIN:VCALENDAR
VERSION:2.0
PRODID:-//Associazione Graffiti
CALSCALE:GREGORIAN
METHOD:PUBLISH
X-WR-CALNAME:Associazione Graffiti
X-ORIGINAL-URL:https://graffitiscuola.it/event/workshop-nudo-surrealista/
X-WR-CALDESC:Workshop di Nudo Surrealista &#8211; 29 Giugno 2013
BEGIN:VEVENT
DTSTART:20130629T000000
DTEND:20130629T000000
SUMMARY:Workshop di Nudo Surrealista &#8211; 29 Giugno 2013
DESCRIPTION:Workshop di nudo Surrealista

LOCATION:Via Latina, 515
END:VEVENT
END:VCALENDAR
