BEGIN:VCALENDAR
VERSION:2.0
PRODID:-//Associazione Graffiti
CALSCALE:GREGORIAN
METHOD:PUBLISH
X-WR-CALNAME:Associazione Graffiti
X-ORIGINAL-URL:https://graffitiscuola.it/event/libro-fotografico-ossidazioni-cose-dellaltro-mondo-di-armando-casali-edizione-graffiti/
X-WR-CALDESC:Libro Fotografico &#8220;OSSIDAZIONI &#8211; Cose dell&#8217;altro mondo&#8221; di Armando Casali &#8211; Edizione Graffiti
BEGIN:VEVENT
DTSTART:
DTEND:
SUMMARY:Libro Fotografico &#8220;OSSIDAZIONI &#8211; Cose dell&#8217;altro mondo&#8221; di Armando Casali &#8211; Edizione Graffiti
DESCRIPTION:Libro Fotografico "OSSIDAZIONI - Cose dell'altro mondo"
di Armando Casali - Edizione Graffiti
LOCATION:
END:VEVENT
END:VCALENDAR
