BEGIN:VCALENDAR
VERSION:2.0
PRODID:-//Associazione Graffiti
CALSCALE:GREGORIAN
METHOD:PUBLISH
X-WR-CALNAME:Associazione Graffiti
X-ORIGINAL-URL:https://graffitiscuola.it/event/workshop-full-immersion/
X-WR-CALDESC:Workshop Full- immersion Adobe Lightroom &#8211; 21 Marzo 2015
BEGIN:VEVENT
DTSTART:20150321T100000
DTEND:20150321T170000
SUMMARY:Workshop Full- immersion Adobe Lightroom &#8211; 21 Marzo 2015
DESCRIPTION:WORKSHOP FULL-IMMERSION
Adobe Lightroom
LOCATION:Via Latina, 515
END:VEVENT
END:VCALENDAR
