BEGIN:VCALENDAR
VERSION:2.0
PRODID:-//Associazione Graffiti
CALSCALE:GREGORIAN
METHOD:PUBLISH
X-WR-CALNAME:Associazione Graffiti
X-ORIGINAL-URL:https://graffitiscuola.it/event/visita-guidata-alla-mostra-fotografica-di-philippe-halsman-sabato-9-dicembre-2023-ore-15/
X-WR-CALDESC:Visita guidata alla Mostra Fotografica di PHILIPPE HALSMAN- Sabato 9 dicembre 2023 ore 15
BEGIN:VEVENT
DTSTART:
DTEND:
SUMMARY:Visita guidata alla Mostra Fotografica di PHILIPPE HALSMAN- Sabato 9 dicembre 2023 ore 15
DESCRIPTION:Visita guidata alla Mostra Fotografica di
PHILIPPE HALSMAN. LAMPO DI GENIO
Sabato 9 dicembre 2023 ore 15
LOCATION:
END:VEVENT
END:VCALENDAR
