BEGIN:VCALENDAR
VERSION:2.0
PRODID:-//Associazione Graffiti
CALSCALE:GREGORIAN
METHOD:PUBLISH
X-WR-CALNAME:Associazione Graffiti
X-ORIGINAL-URL:https://graffitiscuola.it/event/festa-di-natale-graffiti-2023-sabato-16-dicembre-2023-ore-10-18/
X-WR-CALDESC:Festa di Natale Graffiti/ Openday Analogico &#8211; Sabato 16 dicembre 2023 ore 10/18
BEGIN:VEVENT
DTSTART:
DTEND:
SUMMARY:Festa di Natale Graffiti/ Openday Analogico &#8211; Sabato 16 dicembre 2023 ore 10/18
DESCRIPTION:Festa di Natale Graffiti
OpenDay Analogico
Sabato 16 dicembre 2023 ore 10/18 
LOCATION:
END:VEVENT
END:VCALENDAR
