BEGIN:VCALENDAR
VERSION:2.0
PRODID:-//Associazione Graffiti
CALSCALE:GREGORIAN
METHOD:PUBLISH
X-WR-CALNAME:Associazione Graffiti
X-ORIGINAL-URL:https://graffitiscuola.it/event/mostra-e-presentazione-libro-fotografico-ossidazioni-di-armando-casali-graffiti/
X-WR-CALDESC:Mostra e Presentazione Libro Fotografico &#8220;OSSIDAZIONI&#8221; di Armando Casali / Graffiti
BEGIN:VEVENT
DTSTART:
DTEND:
SUMMARY:Mostra e Presentazione Libro Fotografico &#8220;OSSIDAZIONI&#8221; di Armando Casali / Graffiti
DESCRIPTION:Sabato 2 dicembre 2023 ore 17.00
Mostra e Presentazione Libro Fotografico
"OSSIDAZIONI - Cose del'altro mondo" di Armando Casali / Graffiti
LOCATION:
END:VEVENT
END:VCALENDAR
