BEGIN:VCALENDAR
VERSION:2.0
PRODID:-//Associazione Graffiti
CALSCALE:GREGORIAN
METHOD:PUBLISH
X-WR-CALNAME:Associazione Graffiti
X-ORIGINAL-URL:https://graffitiscuola.it/event/dark-room/
X-WR-CALDESC:Workshop Camera Oscura &#8211; 4 Ottobre 2014
BEGIN:VEVENT
DTSTART:20141004T090000
DTEND:20141004T190000
SUMMARY:Workshop Camera Oscura &#8211; 4 Ottobre 2014
DESCRIPTION:DARK ROOM
BLACK AND WHITE
 MON AMOUR

Grande opportunità offerta dalla Graffiti 
per conoscere il magico mondo della camera oscura.

LOCATION:Via Latina, 515
END:VEVENT
END:VCALENDAR
