BEGIN:VCALENDAR
VERSION:2.0
PRODID:-//Associazione Graffiti
CALSCALE:GREGORIAN
METHOD:PUBLISH
X-WR-CALNAME:Associazione Graffiti
X-ORIGINAL-URL:https://graffitiscuola.it/event/visita-guidata-alla-mostra-fotografica-di-helmut-newton-legacy-domenica-12-novembre-2023-ore-10-30/
X-WR-CALDESC:Visita guidata alla Mostra Fotografica di Helmut Newton.LEGACY &#8211; Domenica 12 novembre 2023 ore 10.30
BEGIN:VEVENT
DTSTART:
DTEND:
SUMMARY:Visita guidata alla Mostra Fotografica di Helmut Newton.LEGACY &#8211; Domenica 12 novembre 2023 ore 10.30
DESCRIPTION:Visita guidata alla Mostra Fotografica di Helmut Newton.LEGACY
Domenica 12 novembre 2023 ore 10.30
LOCATION:
END:VEVENT
END:VCALENDAR
