BEGIN:VCALENDAR
VERSION:2.0
PRODID:-//Associazione Graffiti
CALSCALE:GREGORIAN
METHOD:PUBLISH
X-WR-CALNAME:Associazione Graffiti
X-ORIGINAL-URL:https://graffitiscuola.it/event/autoritratto-indagine-psicologica-se-stessi/
X-WR-CALDESC:Workshop &#8211; L’Autoritratto &#8211; 6 Aprile 2013
BEGIN:VEVENT
DTSTART:20130406T000000
DTEND:20130406T000000
SUMMARY:Workshop &#8211; L’Autoritratto &#8211; 6 Aprile 2013
DESCRIPTION:WORKSHOP PSYCHO RITRATTO

“L’autoritratto…un’indagine psicologica di sé stessi”
LOCATION:Via Latina, 515
END:VEVENT
END:VCALENDAR
