BEGIN:VCALENDAR
VERSION:2.0
PRODID:-//Associazione Graffiti
CALSCALE:GREGORIAN
METHOD:PUBLISH
X-WR-CALNAME:Associazione Graffiti
X-ORIGINAL-URL:https://graffitiscuola.it/event/visita-guidata-alla-mostra-fotografica-di-robert-capa-sabato-14-ottobre-2023-ore-15/
X-WR-CALDESC:Visita guidata alla Mostra Fotografica di Robert Capa &#8211; Sabato 14 ottobre 2023 ore 15
BEGIN:VEVENT
DTSTART:
DTEND:
SUMMARY:Visita guidata alla Mostra Fotografica di Robert Capa &#8211; Sabato 14 ottobre 2023 ore 15
DESCRIPTION:VISITA GUIDATA ALLA MOSTRA FOTOGRAFICA DI  ROBERT CAPA
A cura di Gianni Pinnizzotto

LOCATION:
END:VEVENT
END:VCALENDAR
