BEGIN:VCALENDAR
VERSION:2.0
PRODID:-//Associazione Graffiti
CALSCALE:GREGORIAN
METHOD:PUBLISH
X-WR-CALNAME:Associazione Graffiti
X-ORIGINAL-URL:https://graffitiscuola.it/event/ritratto-bianco-nero-notturna-luce-ambiente/
X-WR-CALDESC:Workshop Ritratto Bianco e Nero in Notturna con Luce Ambiente &#8211; 10 Novembre 2012
BEGIN:VEVENT
DTSTART:20121110T220000
DTEND:20121116T190000
SUMMARY:Workshop Ritratto Bianco e Nero in Notturna con Luce Ambiente &#8211; 10 Novembre 2012
DESCRIPTION:WORKSHOP DI FOTOGRAFIA

RITRATTO BIANCO E NERO IN NOTTURNA CON LUCE AMBIENTE

Tratto dal film  “Ascensore per il patibolo”
LOCATION:Via Latina, 515
END:VEVENT
END:VCALENDAR
