BEGIN:VCALENDAR
VERSION:2.0
PRODID:-//Associazione Graffiti
CALSCALE:GREGORIAN
METHOD:PUBLISH
X-WR-CALNAME:Associazione Graffiti
X-ORIGINAL-URL:https://graffitiscuola.it/event/futuro-fotografia-antiche-tecniche-stampa-nuove-sfide-digitale/
X-WR-CALDESC:Seminario: Il futuro della fotografia tra le antiche tecniche di stampa e le nuove sfide del digitale
BEGIN:VEVENT
DTSTART:20090930T193000
DTEND:20090930T210000
SUMMARY:Seminario: Il futuro della fotografia tra le antiche tecniche di stampa e le nuove sfide del digitale
DESCRIPTION:Il futuro della fotografia: tra le antiche tecniche di stampa e le nuove sfide del digitale
A cura di Luca Sorbo
LOCATION:Via Latina, 515
END:VEVENT
END:VCALENDAR
