BEGIN:VCALENDAR
VERSION:2.0
PRODID:-//Associazione Graffiti
CALSCALE:GREGORIAN
METHOD:PUBLISH
X-WR-CALNAME:Associazione Graffiti
X-ORIGINAL-URL:https://graffitiscuola.it/event/inviato-speciale/
X-WR-CALDESC:Seminario: L&#8217;inviato speciale
BEGIN:VEVENT
DTSTART:20100317T193000
DTEND:20100317T210000
SUMMARY:Seminario: L&#8217;inviato speciale
DESCRIPTION:L'inviato speciale
A cura di Francesca Caferri
(Redattore, Redazione Esteri - La Repubblica)
LOCATION:Via Latina, 515
END:VEVENT
END:VCALENDAR
