BEGIN:VCALENDAR
VERSION:2.0
PRODID:-//Associazione Graffiti
CALSCALE:GREGORIAN
METHOD:PUBLISH
X-WR-CALNAME:Associazione Graffiti
X-ORIGINAL-URL:https://graffitiscuola.it/event/uscita-fotografica-il-paese-delle-fiabe-celleno-il-borgo-fantasma/
X-WR-CALDESC:Uscita Fotografica &#8220;IL PAESE DELLE FIABE&#8221; &#038; &#8220;CELLENO &#8211; IL BORGO FANTASMA&#8221; &#8211; Domenica 8 Giugno 2025
BEGIN:VEVENT
DTSTART:
DTEND:
SUMMARY:Uscita Fotografica &#8220;IL PAESE DELLE FIABE&#8221; &#038; &#8220;CELLENO &#8211; IL BORGO FANTASMA&#8221; &#8211; Domenica 8 Giugno 2025
DESCRIPTION:Uscita Fotografica PAESE DELLE FIABE & CELLENO
Domenica 8 Giugno 2025
LOCATION:
END:VEVENT
END:VCALENDAR
