BEGIN:VCALENDAR
VERSION:2.0
PRODID:-//Associazione Graffiti
CALSCALE:GREGORIAN
METHOD:PUBLISH
X-WR-CALNAME:Associazione Graffiti
X-ORIGINAL-URL:https://graffitiscuola.it/event/fotografare-natura/
X-WR-CALDESC:Seminario: Fotografare nella natura
BEGIN:VEVENT
DTSTART:20120306T193000
DTEND:20120306T210000
SUMMARY:Seminario: Fotografare nella natura
DESCRIPTION:Fotografare nella natura
A cura di Pino Magliani e Claudia Camilletti
LOCATION:Via Latina, 515
END:VEVENT
END:VCALENDAR
