BEGIN:VCALENDAR
VERSION:2.0
PRODID:-//Associazione Graffiti
CALSCALE:GREGORIAN
METHOD:PUBLISH
X-WR-CALNAME:Associazione Graffiti
X-ORIGINAL-URL:https://graffitiscuola.it/event/uscita-fotografica-naturalistica-la-fioritura-di-castelluccio-di-norcia-29-giugno-2023/
X-WR-CALDESC:Uscita Fotografica Naturalistica: LA FIORITURA DI CASTELLUCCIO DI NORCIA &#8211; 29 Giugno 2023
BEGIN:VEVENT
DTSTART:
DTEND:
SUMMARY:Uscita Fotografica Naturalistica: LA FIORITURA DI CASTELLUCCIO DI NORCIA &#8211; 29 Giugno 2023
DESCRIPTION:Uscita Fotografica Naturalistica:
LA FIORITURA DI CASTELLUCCIO DI NORCIA
29 Giugno 2023
LOCATION:
END:VEVENT
END:VCALENDAR
