BEGIN:VCALENDAR
VERSION:2.0
PRODID:-//Associazione Graffiti
CALSCALE:GREGORIAN
METHOD:PUBLISH
X-WR-CALNAME:Associazione Graffiti
X-ORIGINAL-URL:https://graffitiscuola.it/event/fotografia-hdr/
X-WR-CALDESC:Seminario: La fotografia HDR
BEGIN:VEVENT
DTSTART:20100630T193000
DTEND:20100630T210000
SUMMARY:Seminario: La fotografia HDR
DESCRIPTION:La fotografia HDR
A cura di Vitali Shkaruba
LOCATION:Via Latina, 515
END:VEVENT
END:VCALENDAR
