BEGIN:VCALENDAR
VERSION:2.0
PRODID:-//Associazione Graffiti
CALSCALE:GREGORIAN
METHOD:PUBLISH
X-WR-CALNAME:Associazione Graffiti
X-ORIGINAL-URL:https://graffitiscuola.it/event/bianco-nero-digitale/
X-WR-CALDESC:Seminario: Il bianco e nero dal digitale
BEGIN:VEVENT
DTSTART:20090527T190000
DTEND:20090527T213000
SUMMARY:Seminario: Il bianco e nero dal digitale
DESCRIPTION:Il bianco e nero dal digitale
A cura di Vitali Shkaruba
LOCATION:Via Latina, 515
END:VEVENT
END:VCALENDAR
