BEGIN:VCALENDAR
VERSION:2.0
PRODID:-//Associazione Graffiti
CALSCALE:GREGORIAN
METHOD:PUBLISH
X-WR-CALNAME:Associazione Graffiti
X-ORIGINAL-URL:https://graffitiscuola.it/event/seminario-masterclass-di-fotografia-sergio-larrain-magnum-photos/
X-WR-CALDESC:Seminario/Masterclass di Fotografia: SERGIO LARRAIN &#8211; Magnum Photos
BEGIN:VEVENT
DTSTART:
DTEND:
SUMMARY:Seminario/Masterclass di Fotografia: SERGIO LARRAIN &#8211; Magnum Photos
DESCRIPTION:Seminario di Fotografia
SERGIO LARRAIN / Magnum Photos
Sabato 6 Maggio 2023 - ore 17.30
LOCATION:
END:VEVENT
END:VCALENDAR
