BEGIN:VCALENDAR
VERSION:2.0
PRODID:-//Associazione Graffiti
CALSCALE:GREGORIAN
METHOD:PUBLISH
X-WR-CALNAME:Associazione Graffiti
X-ORIGINAL-URL:https://graffitiscuola.it/event/mostra-fotografica-roma-tra-luci-e-ombre-autori-vari-graffiti/
X-WR-CALDESC:Mostra Fotografica &#8220;ROMA &#8211; Tra Luci e Ombre&#8221; Autori Vari / GRAFFITI
BEGIN:VEVENT
DTSTART:
DTEND:
SUMMARY:Mostra Fotografica &#8220;ROMA &#8211; Tra Luci e Ombre&#8221; Autori Vari / GRAFFITI
DESCRIPTION:Mostra Fotografica "ROMA - Tra Luci e Ombre"
Autori Vari / GRAFFITI
LOCATION:
END:VEVENT
END:VCALENDAR
