BEGIN:VCALENDAR
VERSION:2.0
PRODID:-//Associazione Graffiti
CALSCALE:GREGORIAN
METHOD:PUBLISH
X-WR-CALNAME:Associazione Graffiti
X-ORIGINAL-URL:https://graffitiscuola.it/event/gestione-esposizione-fotografia-digitale-presenza-situazione-alto-contrasto/
X-WR-CALDESC:Seminario: La gestione dell&#8217;esposizione nella fotografia digitale in presenza di una situazione di alto contrasto
BEGIN:VEVENT
DTSTART:20100519T193000
DTEND:20100519T210000
SUMMARY:Seminario: La gestione dell&#8217;esposizione nella fotografia digitale in presenza di una situazione di alto contrasto
DESCRIPTION:La gestione dell'esposizione nella fotografia digitale in presenza di una situazione di alto contrasto
LOCATION:Via Latina, 515
END:VEVENT
END:VCALENDAR
