BEGIN:VCALENDAR
VERSION:2.0
PRODID:-//Associazione Graffiti
CALSCALE:GREGORIAN
METHOD:PUBLISH
X-WR-CALNAME:Associazione Graffiti
X-ORIGINAL-URL:https://graffitiscuola.it/event/workshop-fotografico-i-muracci-di-primavalle-e-il-parco-di-santa-maria-della-pieta/
X-WR-CALDESC:Workshop Fotografico:  &#8220;I MURACCI DI PRIMAVALLE E IL PARCO DI SANTA MARIA DELLA PIETÀ&#8221;
BEGIN:VEVENT
DTSTART:
DTEND:
SUMMARY:Workshop Fotografico:  &#8220;I MURACCI DI PRIMAVALLE E IL PARCO DI SANTA MARIA DELLA PIETÀ&#8221;
DESCRIPTION:Workshop Fotografico
"I MURACCI DI PRIMAVALLE E
IL PARCO DI SANTA MARIA DELLA PIETÀ"
DOMENICA 16 APRILE 2023 ore 9.30/13.00

LOCATION:
END:VEVENT
END:VCALENDAR
