BEGIN:VCALENDAR
VERSION:2.0
PRODID:-//Associazione Graffiti
CALSCALE:GREGORIAN
METHOD:PUBLISH
X-WR-CALNAME:Associazione Graffiti
X-ORIGINAL-URL:https://graffitiscuola.it/event/digital-photo-editing/
X-WR-CALDESC:Seminario: Digital Photo Editing
BEGIN:VEVENT
DTSTART:20091210T193000
DTEND:20091210T210000
SUMMARY:Seminario: Digital Photo Editing
DESCRIPTION:Digital Photo Editing.
Ultimi trend di post-produzione fotografica
A cura di Vitali Shkaruba
LOCATION:Via Latina, 515
END:VEVENT
END:VCALENDAR
