BEGIN:VCALENDAR
VERSION:2.0
PRODID:-//Associazione Graffiti
CALSCALE:GREGORIAN
METHOD:PUBLISH
X-WR-CALNAME:Associazione Graffiti
X-ORIGINAL-URL:https://graffitiscuola.it/event/uscita-fotografica-la-festa-dei-serpari-cocullo/
X-WR-CALDESC:Uscita Fotografica: 1° Maggio LA FESTA DEI SERPARI &#8211; COCULLO
BEGIN:VEVENT
DTSTART:
DTEND:
SUMMARY:Uscita Fotografica: 1° Maggio LA FESTA DEI SERPARI &#8211; COCULLO
DESCRIPTION:Uscita Fotografica 1° Maggio 2024:
LA FESTA DEI SERPARI - COCULLO
LOCATION:
END:VEVENT
END:VCALENDAR
