BEGIN:VCALENDAR
VERSION:2.0
PRODID:-//Associazione Graffiti
CALSCALE:GREGORIAN
METHOD:PUBLISH
X-WR-CALNAME:Associazione Graffiti
X-ORIGINAL-URL:https://graffitiscuola.it/event/uscita-fotografica-civita-di-bagnoregio-e-la-processione-del-venerdi-santo/
X-WR-CALDESC:Uscita Fotografica: CIVITA DI BAGNOREGIO E LA PROCESSIONE DEL VENERDÌ SANTO
BEGIN:VEVENT
DTSTART:
DTEND:
SUMMARY:Uscita Fotografica: CIVITA DI BAGNOREGIO E LA PROCESSIONE DEL VENERDÌ SANTO
DESCRIPTION:Uscita Fotografica 7 Aprile 2023: 
CIVITA DI BAGNOREGIO E LA PROCESSIONE DEL VENERDÌ SANTO
LOCATION:
END:VEVENT
END:VCALENDAR
