BEGIN:VCALENDAR
VERSION:2.0
PRODID:-//Associazione Graffiti
CALSCALE:GREGORIAN
METHOD:PUBLISH
X-WR-CALNAME:Associazione Graffiti
X-ORIGINAL-URL:https://graffitiscuola.it/event/mostra-fotografica-aperitivo-il-giudizio-universale-di-damiano-mongelli/
X-WR-CALDESC:MOSTRA FOTOGRAFICA &#038; APERITIVO &#8220;IL GIUDIZIO UNIVERSALE&#8221; di DAMIANO MONGELLI
BEGIN:VEVENT
DTSTART:
DTEND:
SUMMARY:MOSTRA FOTOGRAFICA &#038; APERITIVO &#8220;IL GIUDIZIO UNIVERSALE&#8221; di DAMIANO MONGELLI
DESCRIPTION:MOSTRA FOTOGRAFICA & APERITIVO "IL GIUDIZIO UNIVERSALE" di DAMIANO MONGELLI
LOCATION:
END:VEVENT
END:VCALENDAR
