BEGIN:VCALENDAR
VERSION:2.0
PRODID:-//Associazione Graffiti
CALSCALE:GREGORIAN
METHOD:PUBLISH
X-WR-CALNAME:Associazione Graffiti
X-ORIGINAL-URL:https://graffitiscuola.it/event/presentazione-libro-e-mostra-fotografica-dear-palestine-di-roberta-micagli/
X-WR-CALDESC:PRESENTAZIONE LIBRO E MOSTRA FOTOGRAFICA &#8220;DEAR PALESTINE&#8221;  di ROBERTA MICAGLI
BEGIN:VEVENT
DTSTART:
DTEND:
SUMMARY:PRESENTAZIONE LIBRO E MOSTRA FOTOGRAFICA &#8220;DEAR PALESTINE&#8221;  di ROBERTA MICAGLI
DESCRIPTION:Sabato 1 Aprile 2023: 
PRESENTAZIONE LIBRO E MOSTRA FOTOGRAFICA
"DEAR PALESTINE" di ROBERTA MICAGLI
LOCATION:
END:VEVENT
END:VCALENDAR
