BEGIN:VCALENDAR
VERSION:2.0
PRODID:-//Associazione Graffiti
CALSCALE:GREGORIAN
METHOD:PUBLISH
X-WR-CALNAME:Associazione Graffiti
X-ORIGINAL-URL:https://graffitiscuola.it/event/libro-fotografico-la-poetica-dellimmagine-di-autori-vari-edizione-graffiti/
X-WR-CALDESC:Libro Fotografico &#8220;La poetica dell&#8217;immagine&#8221; di Autori Vari &#8211; Edizione Graffiti
BEGIN:VEVENT
DTSTART:
DTEND:
SUMMARY:Libro Fotografico &#8220;La poetica dell&#8217;immagine&#8221; di Autori Vari &#8211; Edizione Graffiti
DESCRIPTION: Libro Fotografico "La poetica dell'immagine" di Autori Vari/Edizione Graffiti 
LOCATION:
END:VEVENT
END:VCALENDAR
