BEGIN:VCALENDAR
VERSION:2.0
PRODID:-//Associazione Graffiti
CALSCALE:GREGORIAN
METHOD:PUBLISH
X-WR-CALNAME:Associazione Graffiti
X-ORIGINAL-URL:https://graffitiscuola.it/event/seminario-incontro/
X-WR-CALDESC:Seminario &#8211; Incontro
BEGIN:VEVENT
DTSTART:20140224T200000
DTEND:20140224T223000
SUMMARY:Seminario &#8211; Incontro
DESCRIPTION:SEMINARIO - INCONTRO

Giuseppe Bonavolontà
LOCATION:Via Latina, 515
END:VEVENT
END:VCALENDAR
